Package: daMA Version: 1.67.0 Command: chmod a+r daMA -R && D:\biocbuild\bbs-3.15-bioc\R\bin\R.exe CMD build --keep-empty-dirs --no-resave-data daMA StartedAt: 2022-03-17 16:41:36 -0400 (Thu, 17 Mar 2022) EndedAt: 2022-03-17 16:41:45 -0400 (Thu, 17 Mar 2022) EllapsedTime: 8.9 seconds RetCode: 0 Status: OK PackageFile: daMA_1.67.0.tar.gz PackageFileSize: 4.026 MiB