Package: diffcoexp Version: 1.15.0 Command: rm -rf diffcoexp.buildbin-libdir && mkdir diffcoexp.buildbin-libdir && D:\biocbuild\bbs-3.15-bioc\R\bin\R.exe CMD INSTALL --build --library=diffcoexp.buildbin-libdir diffcoexp_1.15.0.tar.gz StartedAt: 2022-03-17 21:04:53 -0400 (Thu, 17 Mar 2022) EndedAt: 2022-03-17 21:06:01 -0400 (Thu, 17 Mar 2022) EllapsedTime: 67.5 seconds RetCode: 0 Status: OK PackageFile: diffcoexp_1.15.0.zip PackageFileSize: 218.9 KiB