Package: flowFP Version: 1.54.0 Command: /Library/Frameworks/R.framework/Resources/bin/R CMD build --keep-empty-dirs --no-resave-data flowFP StartedAt: 2022-10-18 18:32:02 -0400 (Tue, 18 Oct 2022) EndedAt: 2022-10-18 18:33:01 -0400 (Tue, 18 Oct 2022) EllapsedTime: 58.7 seconds RetCode: 0 Status: OK PackageFile: flowFP_1.54.0.tar.gz PackageFileSize: 5.124 MiB