Package: flowFP Version: 1.54.0 Command: rm -rf flowFP.buildbin-libdir && mkdir flowFP.buildbin-libdir && F:\biocbuild\bbs-3.15-bioc\R\bin\R.exe CMD INSTALL --build --library=flowFP.buildbin-libdir flowFP_1.54.0.tar.gz StartedAt: 2022-10-19 05:54:01 -0400 (Wed, 19 Oct 2022) EndedAt: 2022-10-19 05:54:37 -0400 (Wed, 19 Oct 2022) EllapsedTime: 35.9 seconds RetCode: 0 Status: OK PackageFile: flowFP_1.54.0.zip PackageFileSize: 5.522 MiB