Package: flowFP Version: 1.54.0 Command: F:\biocbuild\bbs-3.15-bioc\R\bin\R.exe CMD check --no-multiarch --install=check:flowFP.install-out.txt --library=F:\biocbuild\bbs-3.15-bioc\R\library --no-vignettes --timings flowFP_1.54.0.tar.gz StartedAt: 2022-10-19 00:17:46 -0400 (Wed, 19 Oct 2022) EndedAt: 2022-10-19 00:19:37 -0400 (Wed, 19 Oct 2022) EllapsedTime: 110.4 seconds RetCode: 0 Status: OK CheckDir: flowFP.Rcheck Warnings: 0