Package: flowFP Version: 1.53.0 Command: rm -rf flowFP.buildbin-libdir && mkdir flowFP.buildbin-libdir && D:\biocbuild\bbs-3.15-bioc\R\bin\R.exe CMD INSTALL --build --library=flowFP.buildbin-libdir flowFP_1.53.0.tar.gz StartedAt: 2022-03-17 21:08:35 -0400 (Thu, 17 Mar 2022) EndedAt: 2022-03-17 21:09:31 -0400 (Thu, 17 Mar 2022) EllapsedTime: 56.6 seconds RetCode: 0 Status: OK PackageFile: flowFP_1.53.0.zip PackageFileSize: 5.619 MiB