Package: flowFP Version: 1.53.0 Command: D:\biocbuild\bbs-3.15-bioc\R\bin\R.exe CMD INSTALL flowFP StartedAt: 2022-03-17 15:33:33 -0400 (Thu, 17 Mar 2022) EndedAt: 2022-03-17 15:34:28 -0400 (Thu, 17 Mar 2022) EllapsedTime: 54.4 seconds RetCode: 0 Status: OK