Package: flowSpecs Version: 1.10.0 Command: F:\biocbuild\bbs-3.15-bioc\R\bin\R.exe CMD INSTALL flowSpecs StartedAt: 2022-10-18 15:54:48 -0400 (Tue, 18 Oct 2022) EndedAt: 2022-10-18 15:55:04 -0400 (Tue, 18 Oct 2022) EllapsedTime: 16.0 seconds RetCode: 0 Status: OK