Package: flowSpecs Version: 1.9.2 Command: rm -rf flowSpecs.buildbin-libdir && mkdir flowSpecs.buildbin-libdir && D:\biocbuild\bbs-3.15-bioc\R\bin\R.exe CMD INSTALL --build --library=flowSpecs.buildbin-libdir flowSpecs_1.9.2.tar.gz StartedAt: 2022-03-17 21:08:47 -0400 (Thu, 17 Mar 2022) EndedAt: 2022-03-17 21:10:02 -0400 (Thu, 17 Mar 2022) EllapsedTime: 74.7 seconds RetCode: 0 Status: OK PackageFile: flowSpecs_1.9.2.zip PackageFileSize: 3.322 MiB