Package: gaga Version: 2.41.0 Command: D:\biocbuild\bbs-3.15-bioc\R\bin\R.exe CMD check --no-multiarch --install=check:gaga.install-out.txt --library=D:\biocbuild\bbs-3.15-bioc\R\library --no-vignettes --timings gaga_2.41.0.tar.gz StartedAt: 2022-03-17 19:08:31 -0400 (Thu, 17 Mar 2022) EndedAt: 2022-03-17 19:09:30 -0400 (Thu, 17 Mar 2022) EllapsedTime: 59.8 seconds RetCode: 0 Status: OK CheckDir: gaga.Rcheck Warnings: 0