Package: loci2path Version: 1.15.1 Command: chmod a+r loci2path -R && D:\biocbuild\bbs-3.15-bioc\R\bin\R.exe CMD build --keep-empty-dirs --no-resave-data loci2path StartedAt: 2022-03-17 17:15:46 -0400 (Thu, 17 Mar 2022) EndedAt: 2022-03-17 17:16:41 -0400 (Thu, 17 Mar 2022) EllapsedTime: 55.5 seconds RetCode: 0 Status: OK PackageFile: loci2path_1.15.1.tar.gz PackageFileSize: 532.3 KiB