Package: metabomxtr Version: 1.30.0 Command: chmod a+r metabomxtr -R && F:\biocbuild\bbs-3.15-bioc\R\bin\R.exe CMD build --keep-empty-dirs --no-resave-data metabomxtr StartedAt: 2022-10-18 19:24:50 -0400 (Tue, 18 Oct 2022) EndedAt: 2022-10-18 19:26:12 -0400 (Tue, 18 Oct 2022) EllapsedTime: 81.7 seconds RetCode: 0 Status: OK PackageFile: metabomxtr_1.30.0.tar.gz PackageFileSize: 339.4 KiB