Package: metapone Version: 1.1.5 Command: rm -rf metapone.buildbin-libdir && mkdir metapone.buildbin-libdir && D:\biocbuild\bbs-3.15-bioc\R\bin\R.exe CMD INSTALL --build --library=metapone.buildbin-libdir metapone_1.1.5.tar.gz StartedAt: 2022-03-17 21:20:06 -0400 (Thu, 17 Mar 2022) EndedAt: 2022-03-17 21:21:15 -0400 (Thu, 17 Mar 2022) EllapsedTime: 69.5 seconds RetCode: 0 Status: OK PackageFile: metapone_1.1.5.zip PackageFileSize: 3.771 MiB