Package: metapone Version: 1.1.5 Command: D:\biocbuild\bbs-3.15-bioc\R\bin\R.exe CMD check --no-multiarch --install=check:metapone.install-out.txt --library=D:\biocbuild\bbs-3.15-bioc\R\library --no-vignettes --timings metapone_1.1.5.tar.gz StartedAt: 2022-03-17 19:32:17 -0400 (Thu, 17 Mar 2022) EndedAt: 2022-03-17 19:38:32 -0400 (Thu, 17 Mar 2022) EllapsedTime: 375.3 seconds RetCode: 0 Status: OK CheckDir: metapone.Rcheck Warnings: 0