Package: methylumi Version: 2.42.0 Command: /Library/Frameworks/R.framework/Resources/bin/R CMD INSTALL methylumi StartedAt: 2022-10-18 16:25:59 -0400 (Tue, 18 Oct 2022) EndedAt: 2022-10-18 16:27:44 -0400 (Tue, 18 Oct 2022) EllapsedTime: 104.8 seconds RetCode: 0 Status: OK