Package: motifStack Version: 1.40.0 Command: /Library/Frameworks/R.framework/Resources/bin/R CMD INSTALL motifStack StartedAt: 2022-10-18 16:18:23 -0400 (Tue, 18 Oct 2022) EndedAt: 2022-10-18 16:19:53 -0400 (Tue, 18 Oct 2022) EllapsedTime: 90.2 seconds RetCode: 0 Status: OK