Package: multiSight Version: 1.4.0 Command: rm -rf multiSight.buildbin-libdir && mkdir multiSight.buildbin-libdir && /Users/biocbuild/BBS/utils/build-universal.sh multiSight_1.4.0.tar.gz /Library/Frameworks/R.framework/Resources/bin/R multiSight.buildbin-libdir StartedAt: 2022-10-19 10:46:28 -0400 (Wed, 19 Oct 2022) EndedAt: 2022-10-19 10:48:26 -0400 (Wed, 19 Oct 2022) EllapsedTime: 118.0 seconds RetCode: 0 Status: OK PackageFile: multiSight_1.4.0.tgz PackageFileSize: 2.527 MiB