Package: multiSight Version: 1.4.0 Command: F:\biocbuild\bbs-3.15-bioc\R\bin\R.exe CMD check --no-multiarch --install=check:multiSight.install-out.txt --library=F:\biocbuild\bbs-3.15-bioc\R\library --no-vignettes --timings multiSight_1.4.0.tar.gz StartedAt: 2022-10-19 02:15:18 -0400 (Wed, 19 Oct 2022) EndedAt: 2022-10-19 02:21:38 -0400 (Wed, 19 Oct 2022) EllapsedTime: 379.7 seconds RetCode: 0 Status: OK CheckDir: multiSight.Rcheck Warnings: 0