Package: multiSight Version: 1.4.0 Command: F:\biocbuild\bbs-3.15-bioc\R\bin\R.exe CMD INSTALL multiSight StartedAt: 2022-10-18 16:37:45 -0400 (Tue, 18 Oct 2022) EndedAt: 2022-10-18 16:39:02 -0400 (Tue, 18 Oct 2022) EllapsedTime: 76.6 seconds RetCode: 0 Status: OK