Package: normalize450K Version: 1.24.0 Command: /home/biocbuild/bbs-3.15-bioc/R/bin/R CMD check --install=check:normalize450K.install-out.txt --library=/home/biocbuild/bbs-3.15-bioc/R/library --no-vignettes --timings normalize450K_1.24.0.tar.gz StartedAt: 2022-10-18 20:52:41 -0400 (Tue, 18 Oct 2022) EndedAt: 2022-10-18 20:53:11 -0400 (Tue, 18 Oct 2022) EllapsedTime: 29.7 seconds RetCode: 0 Status: OK CheckDir: normalize450K.Rcheck Warnings: 0