Package: normalize450K Version: 1.23.0 Command: D:\biocbuild\bbs-3.15-bioc\R\bin\R.exe CMD check --no-multiarch --install=check:normalize450K.install-out.txt --library=D:\biocbuild\bbs-3.15-bioc\R\library --no-vignettes --timings normalize450K_1.23.0.tar.gz StartedAt: 2022-03-17 19:44:55 -0400 (Thu, 17 Mar 2022) EndedAt: 2022-03-17 19:45:34 -0400 (Thu, 17 Mar 2022) EllapsedTime: 39.0 seconds RetCode: 0 Status: OK CheckDir: normalize450K.Rcheck Warnings: 0