Package: omicRexposome Version: 1.18.0 Command: rm -rf omicRexposome.buildbin-libdir && mkdir omicRexposome.buildbin-libdir && /Users/biocbuild/BBS/utils/build-universal.sh omicRexposome_1.18.0.tar.gz /Library/Frameworks/R.framework/Resources/bin/R omicRexposome.buildbin-libdir StartedAt: 2022-10-19 10:49:50 -0400 (Wed, 19 Oct 2022) EndedAt: 2022-10-19 10:51:22 -0400 (Wed, 19 Oct 2022) EllapsedTime: 91.4 seconds RetCode: 0 Status: OK PackageFile: omicRexposome_1.18.0.tgz PackageFileSize: 2.62 MiB