Package: pageRank Version: 1.6.0 Command: /home/biocbuild/bbs-3.15-bioc/R/bin/R CMD check --install=check:pageRank.install-out.txt --library=/home/biocbuild/bbs-3.15-bioc/R/library --no-vignettes --timings pageRank_1.6.0.tar.gz StartedAt: 2022-10-18 21:00:15 -0400 (Tue, 18 Oct 2022) EndedAt: 2022-10-18 21:06:23 -0400 (Tue, 18 Oct 2022) EllapsedTime: 368.5 seconds RetCode: 0 Status: OK CheckDir: pageRank.Rcheck Warnings: 0