Package: pcaExplorer Version: 2.22.0 Command: rm -rf pcaExplorer.buildbin-libdir && mkdir pcaExplorer.buildbin-libdir && F:\biocbuild\bbs-3.15-bioc\R\bin\R.exe CMD INSTALL --build --library=pcaExplorer.buildbin-libdir pcaExplorer_2.22.0.tar.gz StartedAt: 2022-10-19 06:19:17 -0400 (Wed, 19 Oct 2022) EndedAt: 2022-10-19 06:20:19 -0400 (Wed, 19 Oct 2022) EllapsedTime: 61.8 seconds RetCode: 0 Status: OK PackageFile: pcaExplorer_2.22.0.zip PackageFileSize: 12.25 MiB