Package: pcaExplorer Version: 2.22.0 Command: chmod a+r pcaExplorer -R && F:\biocbuild\bbs-3.15-bioc\R\bin\R.exe CMD build --keep-empty-dirs --no-resave-data pcaExplorer StartedAt: 2022-10-18 20:06:33 -0400 (Tue, 18 Oct 2022) EndedAt: 2022-10-18 20:19:16 -0400 (Tue, 18 Oct 2022) EllapsedTime: 762.7 seconds RetCode: 0 Status: OK PackageFile: pcaExplorer_2.22.0.tar.gz PackageFileSize: 20.32 MiB