Package: pengls Version: 1.2.0 Command: F:\biocbuild\bbs-3.15-bioc\R\bin\R.exe CMD INSTALL pengls StartedAt: 2022-10-18 15:45:19 -0400 (Tue, 18 Oct 2022) EndedAt: 2022-10-18 15:45:35 -0400 (Tue, 18 Oct 2022) EllapsedTime: 15.7 seconds RetCode: 0 Status: OK