Package: polyester Version: 1.32.0 Command: /Library/Frameworks/R.framework/Resources/bin/R CMD build --keep-empty-dirs --no-resave-data polyester StartedAt: 2022-10-18 20:46:15 -0400 (Tue, 18 Oct 2022) EndedAt: 2022-10-18 20:47:08 -0400 (Tue, 18 Oct 2022) EllapsedTime: 53.1 seconds RetCode: 0 Status: OK PackageFile: polyester_1.32.0.tar.gz PackageFileSize: 1.817 MiB