Package: proFIA Version: 1.22.0 Command: rm -rf proFIA.buildbin-libdir && mkdir proFIA.buildbin-libdir && F:\biocbuild\bbs-3.15-bioc\R\bin\R.exe CMD INSTALL --build --library=proFIA.buildbin-libdir proFIA_1.22.0.tar.gz StartedAt: 2022-06-22 06:59:40 -0400 (Wed, 22 Jun 2022) EndedAt: 2022-06-22 07:00:39 -0400 (Wed, 22 Jun 2022) EllapsedTime: 59.2 seconds RetCode: 0 Status: OK PackageFile: proFIA_1.22.0.zip PackageFileSize: 1.394 MiB