git_url: https://git.bioconductor.org/packages/puma git_branch: RELEASE_3_15 git_last_commit: 93bfd22 git_last_commit_date: 2022-04-26 10:59:55 -0400 (Tue, 26 Apr 2022) Package: puma Version: 3.38.0 Maintainer: Xuejun Liu MaintainerEmail: xuejun.liu at nuaa.edu.cn