Package: rCGH Version: 1.26.0 Command: chmod a+r rCGH -R && F:\biocbuild\bbs-3.15-bioc\R\bin\R.exe CMD build --keep-empty-dirs --no-resave-data rCGH StartedAt: 2022-10-18 20:33:35 -0400 (Tue, 18 Oct 2022) EndedAt: 2022-10-18 20:35:35 -0400 (Tue, 18 Oct 2022) EllapsedTime: 119.6 seconds RetCode: 0 Status: OK PackageFile: rCGH_1.26.0.tar.gz PackageFileSize: 3.742 MiB