Package: rCGH Version: 1.25.0 Command: rm -rf rCGH.buildbin-libdir && mkdir rCGH.buildbin-libdir && D:\biocbuild\bbs-3.15-bioc\R\bin\R.exe CMD INSTALL --build --library=rCGH.buildbin-libdir rCGH_1.25.0.tar.gz StartedAt: 2022-03-17 21:31:54 -0400 (Thu, 17 Mar 2022) EndedAt: 2022-03-17 21:33:35 -0400 (Thu, 17 Mar 2022) EllapsedTime: 101.1 seconds RetCode: 0 Status: OK PackageFile: rCGH_1.25.0.zip PackageFileSize: 4.945 MiB