Package: rgsepd Version: 1.28.0 Command: /Library/Frameworks/R.framework/Resources/bin/R CMD build --keep-empty-dirs --no-resave-data rgsepd StartedAt: 2022-10-18 21:09:34 -0400 (Tue, 18 Oct 2022) EndedAt: 2022-10-18 21:13:43 -0400 (Tue, 18 Oct 2022) EllapsedTime: 249.6 seconds RetCode: 0 Status: OK PackageFile: rgsepd_1.28.0.tar.gz PackageFileSize: 1.171 MiB