Package: rgsepd Version: 1.28.0 Command: /Library/Frameworks/R.framework/Resources/bin/R CMD INSTALL rgsepd StartedAt: 2022-10-18 16:18:45 -0400 (Tue, 18 Oct 2022) EndedAt: 2022-10-18 16:20:40 -0400 (Tue, 18 Oct 2022) EllapsedTime: 115.0 seconds RetCode: 0 Status: OK