Package: rgsepd Version: 1.27.0 Command: rm -rf rgsepd.buildbin-libdir && mkdir rgsepd.buildbin-libdir && D:\biocbuild\bbs-3.15-bioc\R\bin\R.exe CMD INSTALL --build --library=rgsepd.buildbin-libdir rgsepd_1.27.0.tar.gz StartedAt: 2022-03-17 21:33:39 -0400 (Thu, 17 Mar 2022) EndedAt: 2022-03-17 21:34:56 -0400 (Thu, 17 Mar 2022) EllapsedTime: 77.7 seconds RetCode: 0 Status: OK PackageFile: rgsepd_1.27.0.zip PackageFileSize: 1.32 MiB