Package: scPCA Version: 1.10.0 Command: rm -rf scPCA.buildbin-libdir && mkdir scPCA.buildbin-libdir && /Users/biocbuild/BBS/utils/build-universal.sh scPCA_1.10.0.tar.gz /Library/Frameworks/R.framework/Resources/bin/R scPCA.buildbin-libdir StartedAt: 2022-10-19 11:09:19 -0400 (Wed, 19 Oct 2022) EndedAt: 2022-10-19 11:09:57 -0400 (Wed, 19 Oct 2022) EllapsedTime: 38.2 seconds RetCode: 0 Status: OK PackageFile: scPCA_1.10.0.tgz PackageFileSize: 1.787 MiB