Package: scPCA Version: 1.10.0 Command: /Library/Frameworks/R.framework/Resources/bin/R CMD build --keep-empty-dirs --no-resave-data scPCA StartedAt: 2022-10-18 21:35:48 -0400 (Tue, 18 Oct 2022) EndedAt: 2022-10-18 21:46:49 -0400 (Tue, 18 Oct 2022) EllapsedTime: 660.4 seconds RetCode: 0 Status: OK PackageFile: scPCA_1.10.0.tar.gz PackageFileSize: 1.76 MiB