Package: scPCA Version: 1.10.0 Command: /Library/Frameworks/R.framework/Resources/bin/R CMD check --install=check:scPCA.install-out.txt --library=/Library/Frameworks/R.framework/Resources/library --no-vignettes --timings scPCA_1.10.0.tar.gz StartedAt: 2022-10-19 07:45:39 -0400 (Wed, 19 Oct 2022) EndedAt: 2022-10-19 07:50:53 -0400 (Wed, 19 Oct 2022) EllapsedTime: 313.9 seconds RetCode: 0 Status: OK CheckDir: scPCA.Rcheck Warnings: 0