Package: scPCA Version: 1.10.0 Command: /Library/Frameworks/R.framework/Resources/bin/R CMD INSTALL scPCA StartedAt: 2022-10-18 16:36:49 -0400 (Tue, 18 Oct 2022) EndedAt: 2022-10-18 16:37:34 -0400 (Tue, 18 Oct 2022) EllapsedTime: 45.6 seconds RetCode: 0 Status: OK