Package: scPCA Version: 1.10.0 Command: /home/biocbuild/bbs-3.15-bioc/R/bin/R CMD check --install=check:scPCA.install-out.txt --library=/home/biocbuild/bbs-3.15-bioc/R/library --no-vignettes --timings scPCA_1.10.0.tar.gz StartedAt: 2022-10-18 21:43:39 -0400 (Tue, 18 Oct 2022) EndedAt: 2022-10-18 21:46:17 -0400 (Tue, 18 Oct 2022) EllapsedTime: 158.2 seconds RetCode: 0 Status: OK CheckDir: scPCA.Rcheck Warnings: 0