Package: scPCA Version: 1.10.0 Command: chmod a+r scPCA -R && F:\biocbuild\bbs-3.15-bioc\R\bin\R.exe CMD build --keep-empty-dirs --no-resave-data scPCA StartedAt: 2022-10-18 20:57:01 -0400 (Tue, 18 Oct 2022) EndedAt: 2022-10-18 21:03:44 -0400 (Tue, 18 Oct 2022) EllapsedTime: 403.3 seconds RetCode: 0 Status: OK PackageFile: scPCA_1.10.0.tar.gz PackageFileSize: 873.2 KiB