Package: scPCA Version: 1.9.1 Command: rm -rf scPCA.buildbin-libdir && mkdir scPCA.buildbin-libdir && D:\biocbuild\bbs-3.15-bioc\R\bin\R.exe CMD INSTALL --build --library=scPCA.buildbin-libdir scPCA_1.9.1.tar.gz StartedAt: 2022-03-17 21:38:14 -0400 (Thu, 17 Mar 2022) EndedAt: 2022-03-17 21:40:05 -0400 (Thu, 17 Mar 2022) EllapsedTime: 110.8 seconds RetCode: 0 Status: OK PackageFile: scPCA_1.9.1.zip PackageFileSize: 936.6 KiB