Package: scanMiRApp Version: 1.2.0 Command: rm -rf scanMiRApp.buildbin-libdir && mkdir scanMiRApp.buildbin-libdir && /Users/biocbuild/BBS/utils/build-universal.sh scanMiRApp_1.2.0.tar.gz /Library/Frameworks/R.framework/Resources/bin/R scanMiRApp.buildbin-libdir StartedAt: 2022-10-19 11:07:29 -0400 (Wed, 19 Oct 2022) EndedAt: 2022-10-19 11:08:54 -0400 (Wed, 19 Oct 2022) EllapsedTime: 84.4 seconds RetCode: 0 Status: OK PackageFile: scanMiRApp_1.2.0.tgz PackageFileSize: 1.339 MiB