Package: scanMiRApp Version: 1.2.0 Command: /Library/Frameworks/R.framework/Resources/bin/R CMD check --install=check:scanMiRApp.install-out.txt --library=/Library/Frameworks/R.framework/Resources/library --no-vignettes --timings scanMiRApp_1.2.0.tar.gz StartedAt: 2022-10-19 07:33:28 -0400 (Wed, 19 Oct 2022) EndedAt: 2022-10-19 07:41:44 -0400 (Wed, 19 Oct 2022) EllapsedTime: 496.0 seconds RetCode: 0 Status: WARNINGS CheckDir: scanMiRApp.Rcheck Warnings: 1