Package: scanMiRApp Version: 1.2.0 Command: /Library/Frameworks/R.framework/Resources/bin/R CMD INSTALL scanMiRApp StartedAt: 2022-10-18 16:21:53 -0400 (Tue, 18 Oct 2022) EndedAt: 2022-10-18 16:23:12 -0400 (Tue, 18 Oct 2022) EllapsedTime: 78.9 seconds RetCode: 0 Status: OK