Package: scanMiRApp Version: 1.2.0 Command: chmod a+r scanMiRApp -R && F:\biocbuild\bbs-3.15-bioc\R\bin\R.exe CMD build --keep-empty-dirs --no-resave-data scanMiRApp StartedAt: 2022-10-18 20:51:23 -0400 (Tue, 18 Oct 2022) EndedAt: 2022-10-18 20:52:59 -0400 (Tue, 18 Oct 2022) EllapsedTime: 96.1 seconds RetCode: 0 Status: OK PackageFile: scanMiRApp_1.2.0.tar.gz PackageFileSize: 878 KiB