Package: scde Version: 2.24.0 Command: /home/biocbuild/bbs-3.15-bioc/R/bin/R CMD build --keep-empty-dirs --no-resave-data scde StartedAt: 2022-10-18 17:57:56 -0400 (Tue, 18 Oct 2022) EndedAt: 2022-10-18 17:57:57 -0400 (Tue, 18 Oct 2022) EllapsedTime: 1.0 seconds RetCode: 0 Status: OK PackageFile: scde_2.24.0.tar.gz PackageFileSize: 1.059 MiB