Package: scde Version: 2.24.0 Command: chmod a+r scde -R && F:\biocbuild\bbs-3.15-bioc\R\bin\R.exe CMD build --keep-empty-dirs --no-resave-data scde StartedAt: 2022-10-18 20:53:17 -0400 (Tue, 18 Oct 2022) EndedAt: 2022-10-18 20:53:20 -0400 (Tue, 18 Oct 2022) EllapsedTime: 2.8 seconds RetCode: 0 Status: OK PackageFile: scde_2.24.0.tar.gz PackageFileSize: 1.059 MiB