Package: scruff Version: 1.14.0 Command: /home/biocbuild/bbs-3.15-bioc/R/bin/R CMD build --keep-empty-dirs --no-resave-data scruff StartedAt: 2022-10-18 18:00:48 -0400 (Tue, 18 Oct 2022) EndedAt: 2022-10-18 18:02:56 -0400 (Tue, 18 Oct 2022) EllapsedTime: 128.2 seconds RetCode: 0 Status: OK PackageFile: scruff_1.14.0.tar.gz PackageFileSize: 1.523 MiB