Package: scruff Version: 1.14.0 Command: rm -rf scruff.buildbin-libdir && mkdir scruff.buildbin-libdir && F:\biocbuild\bbs-3.15-bioc\R\bin\R.exe CMD INSTALL --build --library=scruff.buildbin-libdir scruff_1.14.0.tar.gz StartedAt: 2022-10-19 06:33:35 -0400 (Wed, 19 Oct 2022) EndedAt: 2022-10-19 06:34:50 -0400 (Wed, 19 Oct 2022) EllapsedTime: 75.1 seconds RetCode: 0 Status: OK PackageFile: scruff_1.14.0.zip PackageFileSize: 2.951 MiB