Package: seq2pathway Version: 1.28.0 Command: F:\biocbuild\bbs-3.15-bioc\R\bin\R.exe CMD check --no-multiarch --install=check:seq2pathway.install-out.txt --library=F:\biocbuild\bbs-3.15-bioc\R\library --no-vignettes --timings seq2pathway_1.28.0.tar.gz StartedAt: 2022-10-19 04:05:40 -0400 (Wed, 19 Oct 2022) EndedAt: 2022-10-19 04:10:11 -0400 (Wed, 19 Oct 2022) EllapsedTime: 270.9 seconds RetCode: 0 Status: WARNINGS CheckDir: seq2pathway.Rcheck Warnings: 2